BEGIN:VCALENDAR
VERSION:2.0
PRODID:-//pretix//Lehrgangs_und_Veranstaltungssystem//
BEGIN:VTIMEZONE
TZID:Europe/Berlin
BEGIN:STANDARD
DTSTART:20001029T040000
RRULE:FREQ=YEARLY;BYDAY=-1SU;BYMONTH=10
TZNAME:CET
TZOFFSETFROM:+0200
TZOFFSETTO:+0100
END:STANDARD
BEGIN:DAYLIGHT
DTSTART:20000326T030000
RRULE:FREQ=YEARLY;BYDAY=-1SU;BYMONTH=3
TZNAME:CEST
TZOFFSETFROM:+0100
TZOFFSETTO:+0200
END:DAYLIGHT
END:VTIMEZONE
BEGIN:VEVENT
UID:pretix-Praesenzstellen-scienceslamfuewa-0@thwipretix.th-wildau.de
DTSTART;TZID=Europe/Berlin:20260619T190000
DTEND;TZID=Europe/Berlin:20260619T210000
DESCRIPTION:Tickets: https://thwipretix.th-wildau.de/Praesenzstellen/scienc
 eslamfuewa/\nEinlass: 19.06.2026 18:00\nVeranstalter: Präsenzstellen
DTSTAMP:20260421T133306Z
LOCATION:Kulturfabrik Fürstenwalde
SUMMARY:5. Brandenburger Science Slam in Fürstenwalde
END:VEVENT
END:VCALENDAR
