BEGIN:VCALENDAR
VERSION:2.0
PRODID:-//pretix//Lehrgangs_und_Veranstaltungssystem//
BEGIN:VTIMEZONE
TZID:Europe/Berlin
BEGIN:STANDARD
DTSTART:20001029T040000
RRULE:FREQ=YEARLY;BYDAY=-1SU;BYMONTH=10
TZNAME:CET
TZOFFSETFROM:+0200
TZOFFSETTO:+0100
END:STANDARD
BEGIN:DAYLIGHT
DTSTART:20000326T030000
RRULE:FREQ=YEARLY;BYDAY=-1SU;BYMONTH=3
TZNAME:CEST
TZOFFSETFROM:+0100
TZOFFSETTO:+0200
END:DAYLIGHT
END:VTIMEZONE
BEGIN:VEVENT
UID:pretix-KuSo-BegDem-0@thwipretix.th-wildau.de
DTSTART;TZID=Europe/Berlin:20260429T093000
DTEND;TZID=Europe/Berlin:20260430T133000
DESCRIPTION:Tickets: https://thwipretix.th-wildau.de/KuSo/BegDem/\nVeransta
 lter: Kultur und Soziales
DTSTAMP:20260423T051912Z
LOCATION:Hofsaal\, Haus 13
SUMMARY:Begleitung bei Demenz – Wissen für den Alltag
END:VEVENT
END:VCALENDAR
